View In:
ArcGIS JavaScript
ArcGIS Online Map Viewer
ArcGIS Earth
ArcGIS Pro
Service Description: 2008 Ortho images cover Simcoe Urban Areas in 10cm resolution, CKL and Durham in 20cm resolution, and Simcoe county in 30cm resolution.
Map Name: Layers
Legend
All Layers and Tables
Dynamic Legend
Dynamic All Layers
Layers:
Description: 2008 Ortho images cover Simcoe Urban Areas in 10cm resolution, CKL and Durham in 20cm resolution, and Simcoe county in 30cm resolution.
Service Item Id: 796d389dffd84004b7207b828c26955b
Copyright Text:
Spatial Reference:
102100
(3857)
LatestVCSWkid(0)
Single Fused Map Cache: true
Tile Info:
- Height: 256.0
- Width: 256.0
- DPI: 96.0
-
Levels of Detail: 22
-
Level ID: 0
[ Start Tile, End Tile ]
- Resolution: 156543.03392800014
- Scale: 5.91657527591555E8
-
Level ID: 1
[ Start Tile, End Tile ]
- Resolution: 78271.51696399994
- Scale: 2.95828763795777E8
-
Level ID: 2
[ Start Tile, End Tile ]
- Resolution: 39135.75848200009
- Scale: 1.47914381897889E8
-
Level ID: 3
[ Start Tile, End Tile ]
- Resolution: 19567.87924099992
- Scale: 7.3957190948944E7
-
Level ID: 4
[ Start Tile, End Tile ]
- Resolution: 9783.93962049996
- Scale: 3.6978595474472E7
-
Level ID: 5
[ Start Tile, End Tile ]
- Resolution: 4891.96981024998
- Scale: 1.8489297737236E7
- Format: MIXED
- Compression Quality: 90.0
- Origin: X: -2.0037508342787E7
Y: 2.0037508342787E7
- Spatial Reference: 102100
(3857)
LatestVCSWkid(0)
Storage Info:
- Storage Format: esriMapCacheStorageModeCompactV2
- Packet Size: 128
Initial Extent:
XMin: -9355636.438546505
YMin: 5180455.108122846
XMax: -8348502.153861072
YMax: 5907335.594508003
Spatial Reference: 102100
(0)
LatestVCSWkid(0)
Full Extent:
XMin: -8947614.717494769
YMin: 5442294.517480942
XMax: -8764981.244761366
YMax: 5612818.822352884
Spatial Reference: 102100
(0)
LatestVCSWkid(0)
Units: esriMeters
Supported Image Format Types: PNG32,PNG24,PNG,JPG,DIB,TIFF,EMF,PS,PDF,GIF,SVG,SVGZ,BMP
Document Info:
Title: CachedMapServicesPro.aprx
Author:
Comments: 2008 Ortho images cover Simcoe Urban Areas in 10cm resolution, CKL and Durham in 20cm resolution, and Simcoe county in 30cm resolution.
Subject: 2008 Ortho images cover Simcoe Urban Areas in 10cm resolution, CKL and Durham in 20cm resolution, and Simcoe county in 30cm resolution.
Category:
Keywords: 2008 Orthoimage,Simcoe,CKL,Durham
AntialiasingMode: None
TextAntialiasingMode: Force
Supports Dynamic Layers: true
Resampling: false
MaxRecordCount: 1000
MaxImageHeight: 4096
MaxImageWidth: 4096
Supported Query Formats: JSON, geoJSON, PBF
Supports Query Data Elements: true
Min Scale: 2311162.217155
Max Scale: 564.248588
Supports Datum Transformation: true
Child Resources:
Info
Dynamic Layer
Supported Operations:
Export Map
Identify
QueryLegends
QueryDomains
Find
Return Updates