View In:
ArcGIS JavaScript
ArcGIS Online Map Viewer
ArcGIS Earth
ArcGIS Pro
Service Description: The current ortho images are the combinations of the image sets from 2024 York (10cm), 2023 Durham (15cm), 2023 Simcoe (10cm), 2023 CKL (20cm) within a 2km buffer of LSPP/LSRCA boundary
Map Name: Layers
Legend
All Layers and Tables
Dynamic Legend
Dynamic All Layers
Layers:
Description: The current ortho images are the combinations of the image sets from 2024 York (10cm), 2023 Durham (15cm), 2023 Simcoe (10cm), 2023 CKL (20cm) within a 2km buffer of LSPP/LSRCA boundary
Service Item Id: b4625903f1544560ac988db2ef988b61
Copyright Text:
Spatial Reference:
102100
(3857)
LatestVCSWkid(0)
Single Fused Map Cache: true
Tile Info:
- Height: 256.0
- Width: 256.0
- DPI: 96.0
-
Levels of Detail: 22
-
Level ID: 0
[ Start Tile, End Tile ]
- Resolution: 156543.03392800014
- Scale: 5.91657527591555E8
-
Level ID: 1
[ Start Tile, End Tile ]
- Resolution: 78271.51696399994
- Scale: 2.95828763795777E8
-
Level ID: 2
[ Start Tile, End Tile ]
- Resolution: 39135.75848200009
- Scale: 1.47914381897889E8
-
Level ID: 3
[ Start Tile, End Tile ]
- Resolution: 19567.87924099992
- Scale: 7.3957190948944E7
-
Level ID: 4
[ Start Tile, End Tile ]
- Resolution: 9783.93962049996
- Scale: 3.6978595474472E7
-
Level ID: 5
[ Start Tile, End Tile ]
- Resolution: 4891.96981024998
- Scale: 1.8489297737236E7
- Format: MIXED
- Compression Quality: 90.0
- Origin: X: -2.0037508342787E7
Y: 2.0037508342787E7
- Spatial Reference: 102100
(3857)
LatestVCSWkid(0)
Storage Info:
- Storage Format: esriMapCacheStorageModeCompactV2
- Packet Size: 128
Initial Extent:
XMin: -9212367.812600374
YMin: 5391611.040567034
XMax: -8491770.779807203
YMax: 5913872.318619988
Spatial Reference: 102100
(0)
LatestVCSWkid(0)
Full Extent:
XMin: -8885027.00028499
YMin: 5452118.6522415
XMax: -8770758.606361657
YMax: 5583764.671907715
Spatial Reference: 102100
(0)
LatestVCSWkid(0)
Units: esriMeters
Supported Image Format Types: PNG32,PNG24,PNG,JPG,DIB,TIFF,EMF,PS,PDF,GIF,SVG,SVGZ,BMP
Document Info:
Title: CachedMapServicesPro.aprx
Author:
Comments: 2020 ortho images include image sets from 2020 York (10cm) and 2020 Durham (15cm)
Subject: 2019 ortho images include image sets from 2019 York (10cm), 2019 Durham (15cm), and 2018 Simcoe and CKL (16cm), within a 2km buffer of LSPP/LSRCA boundary
Category:
Keywords: Current,OrthoImage,2024 York,2022 Durham,2023 Simcoe,2023 CKL
AntialiasingMode: None
TextAntialiasingMode: Force
Supports Dynamic Layers: true
MaxRecordCount: 1000
MaxImageHeight: 4096
MaxImageWidth: 4096
Supported Query Formats: JSON, geoJSON, PBF
Supports Query Data Elements: true
Min Scale: 2311162.217155
Max Scale: 564.248588
Supports Datum Transformation: true
Child Resources:
Info
Dynamic Layer
Supported Operations:
Export Map
Identify
QueryLegends
QueryDomains
Find
Return Updates